BEGIN:VCALENDAR
VERSION:2.0
PRODID:-//A la Luz de la Verdad Radio - ECPv6.15.20//NONSGML v1.0//EN
CALSCALE:GREGORIAN
METHOD:PUBLISH
X-WR-CALNAME:A la Luz de la Verdad Radio
X-ORIGINAL-URL:https://alaluzdelaverdadradio.net
X-WR-CALDESC:Eventos para A la Luz de la Verdad Radio
REFRESH-INTERVAL;VALUE=DURATION:PT1H
X-Robots-Tag:noindex
X-PUBLISHED-TTL:PT1H
BEGIN:VTIMEZONE
TZID:UTC
BEGIN:STANDARD
TZOFFSETFROM:+0000
TZOFFSETTO:+0000
TZNAME:UTC
DTSTART:20230101T000000
END:STANDARD
END:VTIMEZONE
BEGIN:VEVENT
DTSTART;TZID=UTC:20240221T100000
DTEND;TZID=UTC:20240221T110000
DTSTAMP:20260420T225935
CREATED:20240129T012215Z
LAST-MODIFIED:20240129T012215Z
UID:676-1708509600-1708513200@alaluzdelaverdadradio.net
SUMMARY:Corazones Transformados en Café con Dios
DESCRIPTION:
URL:https://alaluzdelaverdadradio.net/eventos/corazones-transformados-en-cafe-con-dios-18/
END:VEVENT
BEGIN:VEVENT
DTSTART;TZID=UTC:20240220T100000
DTEND;TZID=UTC:20240220T110000
DTSTAMP:20260420T225935
CREATED:20240129T012026Z
LAST-MODIFIED:20240129T012026Z
UID:674-1708423200-1708426800@alaluzdelaverdadradio.net
SUMMARY:Corazones Transformados en Café con Dios
DESCRIPTION:
URL:https://alaluzdelaverdadradio.net/eventos/corazones-transformados-en-cafe-con-dios-17/
END:VEVENT
BEGIN:VEVENT
DTSTART;TZID=UTC:20240219T210000
DTEND;TZID=UTC:20240219T220000
DTSTAMP:20260420T225935
CREATED:20240128T233013Z
LAST-MODIFIED:20240128T233013Z
UID:626-1708376400-1708380000@alaluzdelaverdadradio.net
SUMMARY:Instrucción Profética
DESCRIPTION:
URL:https://alaluzdelaverdadradio.net/eventos/instruccion-profetica-10/
END:VEVENT
BEGIN:VEVENT
DTSTART;TZID=UTC:20240219T100000
DTEND;TZID=UTC:20240219T110000
DTSTAMP:20260420T225935
CREATED:20240129T011907Z
LAST-MODIFIED:20240129T011907Z
UID:671-1708336800-1708340400@alaluzdelaverdadradio.net
SUMMARY:Corazones Transformados en Café con Dios
DESCRIPTION:
URL:https://alaluzdelaverdadradio.net/eventos/corazones-transformados-en-cafe-con-dios-16/
END:VEVENT
BEGIN:VEVENT
DTSTART;TZID=UTC:20240216T210000
DTEND;TZID=UTC:20240216T220000
DTSTAMP:20260420T225935
CREATED:20240128T232804Z
LAST-MODIFIED:20240128T232804Z
UID:624-1708117200-1708120800@alaluzdelaverdadradio.net
SUMMARY:Instrucción Profética
DESCRIPTION:
URL:https://alaluzdelaverdadradio.net/eventos/instruccion-profetica-9/
END:VEVENT
BEGIN:VEVENT
DTSTART;TZID=UTC:20240216T100000
DTEND;TZID=UTC:20240216T110000
DTSTAMP:20260420T225935
CREATED:20240129T011754Z
LAST-MODIFIED:20240129T011754Z
UID:669-1708077600-1708081200@alaluzdelaverdadradio.net
SUMMARY:Corazones Transformados en Café con Dios
DESCRIPTION:
URL:https://alaluzdelaverdadradio.net/eventos/corazones-transformados-en-cafe-con-dios-15/
END:VEVENT
BEGIN:VEVENT
DTSTART;TZID=UTC:20240215T100000
DTEND;TZID=UTC:20240215T110000
DTSTAMP:20260420T225935
CREATED:20240129T011550Z
LAST-MODIFIED:20240129T011550Z
UID:667-1707991200-1707994800@alaluzdelaverdadradio.net
SUMMARY:Corazones Transformados en Café con Dios
DESCRIPTION:
URL:https://alaluzdelaverdadradio.net/eventos/corazones-transformados-en-cafe-con-dios-14/
END:VEVENT
BEGIN:VEVENT
DTSTART;TZID=UTC:20240214T210000
DTEND;TZID=UTC:20240214T220000
DTSTAMP:20260420T225935
CREATED:20240128T231852Z
LAST-MODIFIED:20240128T231852Z
UID:622-1707944400-1707948000@alaluzdelaverdadradio.net
SUMMARY:Instrucción Profética
DESCRIPTION:
URL:https://alaluzdelaverdadradio.net/eventos/instruccion-profetica-8/
END:VEVENT
BEGIN:VEVENT
DTSTART;TZID=UTC:20240214T100000
DTEND;TZID=UTC:20240214T110000
DTSTAMP:20260420T225935
CREATED:20240129T011342Z
LAST-MODIFIED:20240129T011342Z
UID:665-1707904800-1707908400@alaluzdelaverdadradio.net
SUMMARY:Corazones Transformados en Café con Dios
DESCRIPTION:
URL:https://alaluzdelaverdadradio.net/eventos/corazones-transformados-en-cafe-con-dios-13/
END:VEVENT
BEGIN:VEVENT
DTSTART;TZID=UTC:20240213T100000
DTEND;TZID=UTC:20240213T110000
DTSTAMP:20260420T225935
CREATED:20240129T011223Z
LAST-MODIFIED:20240129T011223Z
UID:663-1707818400-1707822000@alaluzdelaverdadradio.net
SUMMARY:Corazones Transformados en Café con Dios
DESCRIPTION:
URL:https://alaluzdelaverdadradio.net/eventos/corazones-transformados-en-cafe-con-dios-12/
END:VEVENT
BEGIN:VEVENT
DTSTART;TZID=UTC:20240212T210000
DTEND;TZID=UTC:20240212T220000
DTSTAMP:20260420T225935
CREATED:20240128T231440Z
LAST-MODIFIED:20240128T231440Z
UID:620-1707771600-1707775200@alaluzdelaverdadradio.net
SUMMARY:Instrucción Profética
DESCRIPTION:
URL:https://alaluzdelaverdadradio.net/eventos/instruccion-profetica-7/
END:VEVENT
BEGIN:VEVENT
DTSTART;TZID=UTC:20240212T100000
DTEND;TZID=UTC:20240212T110000
DTSTAMP:20260420T225935
CREATED:20240129T010935Z
LAST-MODIFIED:20240129T010935Z
UID:661-1707732000-1707735600@alaluzdelaverdadradio.net
SUMMARY:Corazones Transformados en Café con Dios
DESCRIPTION:
URL:https://alaluzdelaverdadradio.net/eventos/corazones-transformados-en-cafe-con-dios-11/
END:VEVENT
BEGIN:VEVENT
DTSTART;TZID=UTC:20240209T210000
DTEND;TZID=UTC:20240209T220000
DTSTAMP:20260420T225935
CREATED:20240128T231340Z
LAST-MODIFIED:20240128T231340Z
UID:618-1707512400-1707516000@alaluzdelaverdadradio.net
SUMMARY:Instrucción Profética
DESCRIPTION:
URL:https://alaluzdelaverdadradio.net/eventos/instruccion-profetica-6/
END:VEVENT
BEGIN:VEVENT
DTSTART;TZID=UTC:20240209T100000
DTEND;TZID=UTC:20240209T110000
DTSTAMP:20260420T225935
CREATED:20240129T010827Z
LAST-MODIFIED:20240129T010827Z
UID:659-1707472800-1707476400@alaluzdelaverdadradio.net
SUMMARY:Corazones Transformados en Café con Dios
DESCRIPTION:
URL:https://alaluzdelaverdadradio.net/eventos/corazones-transformados-en-cafe-con-dios-10/
END:VEVENT
BEGIN:VEVENT
DTSTART;TZID=UTC:20240208T100000
DTEND;TZID=UTC:20240208T110000
DTSTAMP:20260420T225935
CREATED:20240129T010636Z
LAST-MODIFIED:20240129T010636Z
UID:657-1707386400-1707390000@alaluzdelaverdadradio.net
SUMMARY:Corazones Transformados en Café con Dios
DESCRIPTION:
URL:https://alaluzdelaverdadradio.net/eventos/corazones-transformados-en-cafe-con-dios-9/
END:VEVENT
BEGIN:VEVENT
DTSTART;TZID=UTC:20240207T210000
DTEND;TZID=UTC:20240207T220000
DTSTAMP:20260420T225935
CREATED:20240128T231201Z
LAST-MODIFIED:20240128T235609Z
UID:616-1707339600-1707343200@alaluzdelaverdadradio.net
SUMMARY:Instrucción Profética
DESCRIPTION:
URL:https://alaluzdelaverdadradio.net/eventos/instruccion-profetica-5/
END:VEVENT
BEGIN:VEVENT
DTSTART;TZID=UTC:20240207T100000
DTEND;TZID=UTC:20240207T110000
DTSTAMP:20260420T225935
CREATED:20240129T010455Z
LAST-MODIFIED:20240129T010455Z
UID:655-1707300000-1707303600@alaluzdelaverdadradio.net
SUMMARY:Corazones Transformados en Café con Dios
DESCRIPTION:
URL:https://alaluzdelaverdadradio.net/eventos/corazones-transformados-en-cafe-con-dios-8/
END:VEVENT
BEGIN:VEVENT
DTSTART;TZID=UTC:20240206T100000
DTEND;TZID=UTC:20240206T110000
DTSTAMP:20260420T225935
CREATED:20240129T004008Z
LAST-MODIFIED:20240129T010323Z
UID:651-1707213600-1707217200@alaluzdelaverdadradio.net
SUMMARY:Corazones Transformados en Café con Dios
DESCRIPTION:
URL:https://alaluzdelaverdadradio.net/eventos/corazones-transformados-en-cafe-con-dios-6/
END:VEVENT
BEGIN:VEVENT
DTSTART;TZID=UTC:20240205T210000
DTEND;TZID=UTC:20240205T220000
DTSTAMP:20260420T225935
CREATED:20240128T230749Z
LAST-MODIFIED:20240128T230749Z
UID:610-1707166800-1707170400@alaluzdelaverdadradio.net
SUMMARY:Instrucción Profética
DESCRIPTION:
URL:https://alaluzdelaverdadradio.net/eventos/instruccion-profetica-2/
END:VEVENT
BEGIN:VEVENT
DTSTART;TZID=UTC:20240205T100000
DTEND;TZID=UTC:20240205T110000
DTSTAMP:20260420T225935
CREATED:20240129T004316Z
LAST-MODIFIED:20240129T004316Z
UID:653-1707127200-1707130800@alaluzdelaverdadradio.net
SUMMARY:Corazones Transformados en Café con Dios
DESCRIPTION:
URL:https://alaluzdelaverdadradio.net/eventos/corazones-transformados-en-cafe-con-dios-7/
END:VEVENT
BEGIN:VEVENT
DTSTART;TZID=UTC:20240202T210000
DTEND;TZID=UTC:20240202T220000
DTSTAMP:20260420T225935
CREATED:20240128T231002Z
LAST-MODIFIED:20240128T235543Z
UID:614-1706907600-1706911200@alaluzdelaverdadradio.net
SUMMARY:Instrucción Profética
DESCRIPTION:
URL:https://alaluzdelaverdadradio.net/eventos/instruccion-profetica-4/
END:VEVENT
BEGIN:VEVENT
DTSTART;TZID=UTC:20240202T100000
DTEND;TZID=UTC:20240202T110000
DTSTAMP:20260420T225935
CREATED:20240129T003850Z
LAST-MODIFIED:20240129T004105Z
UID:649-1706868000-1706871600@alaluzdelaverdadradio.net
SUMMARY:Corazones Transformados en Café con Dios
DESCRIPTION:
URL:https://alaluzdelaverdadradio.net/eventos/corazones-transformados-en-cafe-con-dios-5/
END:VEVENT
BEGIN:VEVENT
DTSTART;TZID=UTC:20240201T100000
DTEND;TZID=UTC:20240201T110000
DTSTAMP:20260420T225935
CREATED:20240129T002532Z
LAST-MODIFIED:20240129T002532Z
UID:647-1706781600-1706785200@alaluzdelaverdadradio.net
SUMMARY:Corazones Transformados en Café con Dios
DESCRIPTION:
URL:https://alaluzdelaverdadradio.net/eventos/corazones-transformados-en-cafe-con-dios-4/
END:VEVENT
BEGIN:VEVENT
DTSTART;TZID=UTC:20240131T210000
DTEND;TZID=UTC:20240131T220000
DTSTAMP:20260420T225935
CREATED:20240128T230907Z
LAST-MODIFIED:20240128T230907Z
UID:612-1706734800-1706738400@alaluzdelaverdadradio.net
SUMMARY:Instrucción Profética
DESCRIPTION:
URL:https://alaluzdelaverdadradio.net/eventos/instruccion-profetica-3/
END:VEVENT
BEGIN:VEVENT
DTSTART;TZID=UTC:20240131T100000
DTEND;TZID=UTC:20240131T110000
DTSTAMP:20260420T225935
CREATED:20240129T002427Z
LAST-MODIFIED:20240129T002427Z
UID:645-1706695200-1706698800@alaluzdelaverdadradio.net
SUMMARY:Corazones Transformados en Café con Dios
DESCRIPTION:
URL:https://alaluzdelaverdadradio.net/eventos/corazones-transformados-en-cafe-con-dios-3/
END:VEVENT
BEGIN:VEVENT
DTSTART;TZID=UTC:20240130T100000
DTEND;TZID=UTC:20240130T113000
DTSTAMP:20260420T225935
CREATED:20240129T002104Z
LAST-MODIFIED:20240129T002104Z
UID:643-1706608800-1706614200@alaluzdelaverdadradio.net
SUMMARY:Corazones Transformados en Café con Dios
DESCRIPTION:
URL:https://alaluzdelaverdadradio.net/eventos/corazones-transformados-en-cafe-con-dios-2/
END:VEVENT
BEGIN:VEVENT
DTSTART;TZID=UTC:20240129T210000
DTEND;TZID=UTC:20240129T220000
DTSTAMP:20260420T225935
CREATED:20240128T225917Z
LAST-MODIFIED:20240128T225917Z
UID:608-1706562000-1706565600@alaluzdelaverdadradio.net
SUMMARY:Instrucción Profética
DESCRIPTION:
URL:https://alaluzdelaverdadradio.net/eventos/instruccion-profetica/
END:VEVENT
END:VCALENDAR