BEGIN:VCALENDAR
VERSION:2.0
PRODID:-//A la Luz de la Verdad Radio - ECPv6.15.20//NONSGML v1.0//EN
CALSCALE:GREGORIAN
METHOD:PUBLISH
X-ORIGINAL-URL:https://alaluzdelaverdadradio.net
X-WR-CALDESC:Eventos para A la Luz de la Verdad Radio
REFRESH-INTERVAL;VALUE=DURATION:PT1H
X-Robots-Tag:noindex
X-PUBLISHED-TTL:PT1H
BEGIN:VTIMEZONE
TZID:UTC
BEGIN:STANDARD
TZOFFSETFROM:+0000
TZOFFSETTO:+0000
TZNAME:UTC
DTSTART:20230101T000000
END:STANDARD
END:VTIMEZONE
BEGIN:VEVENT
DTSTART;TZID=UTC:20241024T080000
DTEND;TZID=UTC:20241024T090000
DTSTAMP:20260420T161041
CREATED:20241003T222340Z
LAST-MODIFIED:20241003T222340Z
UID:897-1729756800-1729760400@alaluzdelaverdadradio.net
SUMMARY:Corazones Transformados en Cafe Con Dios
DESCRIPTION:
URL:https://alaluzdelaverdadradio.net/eventos/corazones-transformados-en-cafe-con-dios-43/
END:VEVENT
BEGIN:VEVENT
DTSTART;TZID=UTC:20241023T210000
DTEND;TZID=UTC:20241023T220000
DTSTAMP:20260420T161041
CREATED:20241003T222010Z
LAST-MODIFIED:20241003T222010Z
UID:895-1729717200-1729720800@alaluzdelaverdadradio.net
SUMMARY:Intersección
DESCRIPTION:
URL:https://alaluzdelaverdadradio.net/eventos/interseccion-4/
END:VEVENT
BEGIN:VEVENT
DTSTART;TZID=UTC:20241023T080000
DTEND;TZID=UTC:20241023T090000
DTSTAMP:20260420T161041
CREATED:20241003T220115Z
LAST-MODIFIED:20241003T220115Z
UID:891-1729670400-1729674000@alaluzdelaverdadradio.net
SUMMARY:Corazones Transformados en Cafe Con Dios
DESCRIPTION:
URL:https://alaluzdelaverdadradio.net/eventos/corazones-transformados-en-cafe-con-dios-42/
END:VEVENT
BEGIN:VEVENT
DTSTART;TZID=UTC:20241022T200000
DTEND;TZID=UTC:20241022T210000
DTSTAMP:20260420T161041
CREATED:20241003T215918Z
LAST-MODIFIED:20241003T215918Z
UID:889-1729627200-1729630800@alaluzdelaverdadradio.net
SUMMARY:Levantando Dicipulos para  Cristo
DESCRIPTION:
URL:https://alaluzdelaverdadradio.net/eventos/levantando-dicipulos-para-cristo-12/
END:VEVENT
BEGIN:VEVENT
DTSTART;TZID=UTC:20241022T080000
DTEND;TZID=UTC:20241022T090000
DTSTAMP:20260420T161041
CREATED:20241003T215614Z
LAST-MODIFIED:20241003T215614Z
UID:887-1729584000-1729587600@alaluzdelaverdadradio.net
SUMMARY:Corazones Transformados en Cafe con Dios
DESCRIPTION:
URL:https://alaluzdelaverdadradio.net/eventos/corazones-transformados-en-cafe-con-dios-41/
END:VEVENT
BEGIN:VEVENT
DTSTART;TZID=UTC:20241021T090000
DTEND;TZID=UTC:20241021T100000
DTSTAMP:20260420T161041
CREATED:20241003T215419Z
LAST-MODIFIED:20241003T215419Z
UID:885-1729501200-1729504800@alaluzdelaverdadradio.net
SUMMARY:Renovados
DESCRIPTION:
URL:https://alaluzdelaverdadradio.net/eventos/renovados-3/
END:VEVENT
BEGIN:VEVENT
DTSTART;TZID=UTC:20241021T080000
DTEND;TZID=UTC:20241021T090000
DTSTAMP:20260420T161041
CREATED:20241003T215234Z
LAST-MODIFIED:20241003T215234Z
UID:883-1729497600-1729501200@alaluzdelaverdadradio.net
SUMMARY:Corazones Transformados en Cafe Con Dios
DESCRIPTION:
URL:https://alaluzdelaverdadradio.net/eventos/corazones-transformados-en-cafe-con-dios-40/
END:VEVENT
BEGIN:VEVENT
DTSTART;TZID=UTC:20241020T183000
DTEND;TZID=UTC:20241020T200000
DTSTAMP:20260420T161041
CREATED:20241003T214916Z
LAST-MODIFIED:20241003T214916Z
UID:881-1729449000-1729454400@alaluzdelaverdadradio.net
SUMMARY:Servicio del Domingo
DESCRIPTION:
URL:https://alaluzdelaverdadradio.net/eventos/servicio-del-domingo-3/
END:VEVENT
BEGIN:VEVENT
DTSTART;TZID=UTC:20241018T080000
DTEND;TZID=UTC:20241018T090000
DTSTAMP:20260420T161041
CREATED:20241003T210559Z
LAST-MODIFIED:20241003T210559Z
UID:879-1729238400-1729242000@alaluzdelaverdadradio.net
SUMMARY:Corazones Transformados en Cafe Con Dios
DESCRIPTION:
URL:https://alaluzdelaverdadradio.net/eventos/corazones-transformados-en-cafe-con-dios-39/
END:VEVENT
BEGIN:VEVENT
DTSTART;TZID=UTC:20241017T200000
DTEND;TZID=UTC:20241017T210000
DTSTAMP:20260420T161041
CREATED:20241003T205922Z
LAST-MODIFIED:20241003T205922Z
UID:877-1729195200-1729198800@alaluzdelaverdadradio.net
SUMMARY:Levantando Dicipulos para Cristo
DESCRIPTION:
URL:https://alaluzdelaverdadradio.net/eventos/levantando-dicipulos-para-cristo-11/
END:VEVENT
BEGIN:VEVENT
DTSTART;TZID=UTC:20241017T080000
DTEND;TZID=UTC:20241017T090000
DTSTAMP:20260420T161041
CREATED:20241003T205709Z
LAST-MODIFIED:20241003T205709Z
UID:875-1729152000-1729155600@alaluzdelaverdadradio.net
SUMMARY:Corazones Transformados en Cafe Con Dios
DESCRIPTION:
URL:https://alaluzdelaverdadradio.net/eventos/corazones-transformados-en-cafe-con-dios-38/
END:VEVENT
BEGIN:VEVENT
DTSTART;TZID=UTC:20241016T210000
DTEND;TZID=UTC:20241016T220000
DTSTAMP:20260420T161041
CREATED:20241003T204443Z
LAST-MODIFIED:20241003T204443Z
UID:873-1729112400-1729116000@alaluzdelaverdadradio.net
SUMMARY:Intersección
DESCRIPTION:
URL:https://alaluzdelaverdadradio.net/eventos/interseccion-3/
END:VEVENT
BEGIN:VEVENT
DTSTART;TZID=UTC:20241016T080000
DTEND;TZID=UTC:20241016T090000
DTSTAMP:20260420T161041
CREATED:20241003T204121Z
LAST-MODIFIED:20241003T204121Z
UID:869-1729065600-1729069200@alaluzdelaverdadradio.net
SUMMARY:Corazones Transformados en Cafe Con Dios
DESCRIPTION:
URL:https://alaluzdelaverdadradio.net/eventos/corazones-transformados-en-cafe-con-dios-37/
END:VEVENT
BEGIN:VEVENT
DTSTART;TZID=UTC:20241015T200000
DTEND;TZID=UTC:20241015T210000
DTSTAMP:20260420T161041
CREATED:20241003T203412Z
LAST-MODIFIED:20241003T203412Z
UID:867-1729022400-1729026000@alaluzdelaverdadradio.net
SUMMARY:Levantando Dicipulos para Cristo
DESCRIPTION:
URL:https://alaluzdelaverdadradio.net/eventos/levantando-dicipulos-para-cristo-9/
END:VEVENT
BEGIN:VEVENT
DTSTART;TZID=UTC:20241015T080000
DTEND;TZID=UTC:20241015T090000
DTSTAMP:20260420T161041
CREATED:20241003T203150Z
LAST-MODIFIED:20241003T203150Z
UID:865-1728979200-1728982800@alaluzdelaverdadradio.net
SUMMARY:Corazones Transformados en Cafe Con Dios
DESCRIPTION:
URL:https://alaluzdelaverdadradio.net/eventos/corazones-transformados-en-cafe-con-dios-36/
END:VEVENT
BEGIN:VEVENT
DTSTART;TZID=UTC:20241014T090000
DTEND;TZID=UTC:20241014T100000
DTSTAMP:20260420T161041
CREATED:20241003T202924Z
LAST-MODIFIED:20241003T202924Z
UID:863-1728896400-1728900000@alaluzdelaverdadradio.net
SUMMARY:Renovados
DESCRIPTION:
URL:https://alaluzdelaverdadradio.net/eventos/renovados-2/
END:VEVENT
BEGIN:VEVENT
DTSTART;TZID=UTC:20241014T080000
DTEND;TZID=UTC:20241014T090000
DTSTAMP:20260420T161041
CREATED:20241003T202617Z
LAST-MODIFIED:20241003T202707Z
UID:861-1728892800-1728896400@alaluzdelaverdadradio.net
SUMMARY:Corazones Transformados en Cafe Con Dios
DESCRIPTION:
URL:https://alaluzdelaverdadradio.net/eventos/corazones-transformados-en-cafe-con-dios-35/
END:VEVENT
BEGIN:VEVENT
DTSTART;TZID=UTC:20241013T183000
DTEND;TZID=UTC:20241013T200000
DTSTAMP:20260420T161041
CREATED:20241003T201913Z
LAST-MODIFIED:20241003T201913Z
UID:859-1728844200-1728849600@alaluzdelaverdadradio.net
SUMMARY:Servicio del Domingo
DESCRIPTION:
URL:https://alaluzdelaverdadradio.net/eventos/servicio-del-domingo-2/
END:VEVENT
BEGIN:VEVENT
DTSTART;TZID=UTC:20241011T210000
DTEND;TZID=UTC:20241011T220000
DTSTAMP:20260420T161041
CREATED:20241003T201007Z
LAST-MODIFIED:20241003T201007Z
UID:855-1728680400-1728684000@alaluzdelaverdadradio.net
SUMMARY:Instrucción Profetica
DESCRIPTION:
URL:https://alaluzdelaverdadradio.net/eventos/instruccion-profetica-16/
END:VEVENT
BEGIN:VEVENT
DTSTART;TZID=UTC:20241011T080000
DTEND;TZID=UTC:20241011T090000
DTSTAMP:20260420T161041
CREATED:20241003T200527Z
LAST-MODIFIED:20241003T200527Z
UID:853-1728633600-1728637200@alaluzdelaverdadradio.net
SUMMARY:Corazones Transformados en Cafe Con Dios
DESCRIPTION:
URL:https://alaluzdelaverdadradio.net/eventos/corazones-transformados-en-cafe-con-dios-34/
END:VEVENT
BEGIN:VEVENT
DTSTART;TZID=UTC:20241010T200000
DTEND;TZID=UTC:20241010T210000
DTSTAMP:20260420T161041
CREATED:20241003T191204Z
LAST-MODIFIED:20241003T191204Z
UID:816-1728590400-1728594000@alaluzdelaverdadradio.net
SUMMARY:Levantando Dicipulos para Cristo
DESCRIPTION:
URL:https://alaluzdelaverdadradio.net/eventos/levantando-dicipulos-para-cristo-3/
END:VEVENT
BEGIN:VEVENT
DTSTART;TZID=UTC:20241010T080000
DTEND;TZID=UTC:20241010T090000
DTSTAMP:20260420T161041
CREATED:20241003T200230Z
LAST-MODIFIED:20241003T200326Z
UID:851-1728547200-1728550800@alaluzdelaverdadradio.net
SUMMARY:Corazones Transformados en Cafe Con Dios
DESCRIPTION:
URL:https://alaluzdelaverdadradio.net/eventos/corazones-transformados-en-cafe-con-dios-33/
END:VEVENT
BEGIN:VEVENT
DTSTART;TZID=UTC:20241009T210000
DTEND;TZID=UTC:20241009T220000
DTSTAMP:20260420T161041
CREATED:20241003T195441Z
LAST-MODIFIED:20241003T195441Z
UID:847-1728507600-1728511200@alaluzdelaverdadradio.net
SUMMARY:Intersección
DESCRIPTION:
URL:https://alaluzdelaverdadradio.net/eventos/interseccion-2/
END:VEVENT
BEGIN:VEVENT
DTSTART;TZID=UTC:20241009T080000
DTEND;TZID=UTC:20241009T090000
DTSTAMP:20260420T161041
CREATED:20241003T195251Z
LAST-MODIFIED:20241003T195251Z
UID:845-1728460800-1728464400@alaluzdelaverdadradio.net
SUMMARY:Corazones Transformados en Cafe Con  Dios
DESCRIPTION:
URL:https://alaluzdelaverdadradio.net/eventos/corazones-transformados-en-cafe-con-dios-32/
END:VEVENT
BEGIN:VEVENT
DTSTART;TZID=UTC:20241008T200000
DTEND;TZID=UTC:20241008T210000
DTSTAMP:20260420T161041
CREATED:20241003T190743Z
LAST-MODIFIED:20241003T191010Z
UID:812-1728417600-1728421200@alaluzdelaverdadradio.net
SUMMARY:Levantando Dicipulos para Cristo
DESCRIPTION:
URL:https://alaluzdelaverdadradio.net/eventos/levantando-dicipulos-para-cristo-2/
END:VEVENT
BEGIN:VEVENT
DTSTART;TZID=UTC:20241008T080000
DTEND;TZID=UTC:20241008T090000
DTSTAMP:20260420T161041
CREATED:20241003T194928Z
LAST-MODIFIED:20241003T194928Z
UID:843-1728374400-1728378000@alaluzdelaverdadradio.net
SUMMARY:Corazones Transformados en Cafe Con Dios
DESCRIPTION:
URL:https://alaluzdelaverdadradio.net/eventos/corazones-transformados-en-cafe-con-dios-31/
END:VEVENT
BEGIN:VEVENT
DTSTART;TZID=UTC:20241007T090000
DTEND;TZID=UTC:20241007T100000
DTSTAMP:20260420T161041
CREATED:20241003T194559Z
LAST-MODIFIED:20241003T194559Z
UID:841-1728291600-1728295200@alaluzdelaverdadradio.net
SUMMARY:Renovados
DESCRIPTION:
URL:https://alaluzdelaverdadradio.net/eventos/renovados/
END:VEVENT
BEGIN:VEVENT
DTSTART;TZID=UTC:20241007T080000
DTEND;TZID=UTC:20241007T090000
DTSTAMP:20260420T161041
CREATED:20241003T194410Z
LAST-MODIFIED:20241003T194410Z
UID:839-1728288000-1728291600@alaluzdelaverdadradio.net
SUMMARY:Corazones Transformados en Cafe Con Dios
DESCRIPTION:
URL:https://alaluzdelaverdadradio.net/eventos/corazones-transformados-en-cafe-con-dios-30/
END:VEVENT
BEGIN:VEVENT
DTSTART;TZID=UTC:20241006T183000
DTEND;TZID=UTC:20241006T200000
DTSTAMP:20260420T161041
CREATED:20241003T201251Z
LAST-MODIFIED:20241003T201324Z
UID:857-1728239400-1728244800@alaluzdelaverdadradio.net
SUMMARY:Servicio  del Domingo
DESCRIPTION:
URL:https://alaluzdelaverdadradio.net/eventos/servicio-del-domingo/
END:VEVENT
BEGIN:VEVENT
DTSTART;TZID=UTC:20241004T210000
DTEND;TZID=UTC:20241004T220000
DTSTAMP:20260420T161041
CREATED:20241004T210010Z
LAST-MODIFIED:20241003T185307Z
UID:636-1728075600-1728079200@alaluzdelaverdadradio.net
SUMMARY:Instrucción Profética
DESCRIPTION:
URL:https://alaluzdelaverdadradio.net/eventos/instruccion-profetica-15/
END:VEVENT
END:VCALENDAR